Workbook

Sheet Rezepteingabe
B1: Rezeptname: | C1: Testseife
B2: Herstellungsdatum: | C2: 42530 | D2: Herstellungsart: | E2: OHP
B3: Auswahl Eingabe der Fette in % oder g: | C3: Prozent | D3: Duftmenge in % zur GFM: | E3: 3 | F3: % | G3: Duftmenge in g: | J3: =E3*K21/100 -> 7.5
B4: GFM in g: | C4: 250 | D4: =IF(AND(C3="Prozent",C4=""),"Bitte die GFM eintragen!","")
B5: Flüssigkeitsmenge in % auf GFM: | C5: 35 | D5: Flüssigkeitsmenge in g: | E5: =C5*C4/100 -> 87.5 | F5: g | G5: Auswahl Flüssigkeit: | J5: Wasser
B6: Auswahl Lauge: | C6: NaOH/KOH | D6: =IF($C$6="NaOH/KOH","Mischverseifung NaOH in %:","Eingabe nur bei Mischverseifung") -> Mischverseifung NaOH in %: | E6: 70 | F6: %
B7: Eingabe Überfettung (sonst automatisch 7%) | C7: 15 | D7: =IF($C$6="NaOH/KOH","Mischverseifung KOH in %:","Eingabe nur bei Mischverseifung") -> Mischverseifung KOH in %: | E7: 30 | F7: %
B8: Eingabe KOH-Reinheit in % (sonst 100%) | C8: 90
I9: =IF(C6="NaOH/KOH","Mischverseifung","") -> Mischverseifung
A10: Nr. | B10: Auswahl Fette per Menü | C10: VZ NaOH | D10: verwendetet Fette | E10: =C3 -> Prozent | G10: =IF(E10="Prozent","Gramm","Prozent") -> Gramm | I10: =IF(C6="NaOH","NaOH",IF(C6="KOH","KOH","NaOH")) -> NaOH | J10: =IF(C6="NaOH/KOH","KOH","") -> KOH | K10: Gramm | L10: NaOH | M10: KOH | N10: Prozent | O10: Härte | P10: Reinigung | Q10: Pflege | R10: Schaum | S10: Cremigkeit | T10: Jod | U10: INS | V10: Laurinsäure | W10: Myristinsäure | X10: Palmitinsäure | Y10: Stearinsäure | Z10: Ricinsäure | AA10: Ölsäure | AB10: Linolsäure | AC10: Linolensäure
A11: 1 | B11: Babassu | C11: =IF(D11="","",VLOOKUP(B11,'VZ ändern'!$A$11:$C$46,3)) -> 0.1747 | D11: =IF(B11="-","",B11) -> Babassu | E11: 20 | F11: =IF($E$10="Prozent","%","g") -> % | G11: =IF(D11="","",IF($G$10="Gramm",E11*$C$4/100,E11*100/$E$21)) -> 50 | H11: =IF($G$10="Prozent","%","g") -> g | I11: =IF($I$10="NaOH",L11,IF($I$10="KOH",M11)) -> 7.42475 | J11: =IF($J$10="KOH",M11,"") -> 11.57271 | K11: =IF(G11="","",IF($G$10="Gramm",G11,E11)) -> 50 | L11: =IF(G11="","",IF($C$7="",K11*C11*0.93,K11*C11-K11*C11*$C$7/100)) -> 7.42475 | M11: =IF(G11="","",IF($C$8="",L11*1.4028,L11*1.4028/$C$8*100)) -> 11.57271 | N11: =IF(G11="",0,IF($G$10="Prozent",G11,E11)) -> 20 | O11: =IF(D11="",0,VLOOKUP(D11,'VZ ändern'!$A$11:$J$46,4)) -> 85 | P11: =IF(D11="",0,VLOOKUP(D11,'VZ ändern'!$A$11:$J$46,5)) -> 70 | Q11: =IF(D11="",0,VLOOKUP(D11,'VZ ändern'!$A$11:$J$46,6)) -> 10 | R11: =IF(D11="",0,VLOOKUP(D11,'VZ ändern'!$A$11:$J$46,7)) -> 70 | S11: =IF(D11="",0,VLOOKUP(D11,'VZ ändern'!$A$11:$J$46,8)) -> 15 | T11: =IF(D11="",0,VLOOKUP(D11,'VZ ändern'!$A$11:$J$46,10)) -> 15 | U11: =IF(D11="",0,VLOOKUP(D11,'VZ ändern'!$A$11:$J$46,9)) -> 230 | V11: =IF($D$11="",0,VLOOKUP($D$11,Tabelle6!$A$2:$I$37,2)) -> 50 | W11: =IF(D11="",0,VLOOKUP(D11,Tabelle6!$A$2:$I$37,3)) -> 20 | X11: =IF(D11="",0,VLOOKUP(D11,Tabelle6!$A$2:$I$37,4)) -> 11 | Y11: =IF(D11="",0,VLOOKUP(D11,Tabelle6!$A$2:$I$37,5)) -> 4 | Z11: =IF(D11="",0,VLOOKUP(D11,Tabelle6!$A$2:$I$37,6)) -> 0 | AA11: =IF(D11="",0,VLOOKUP(D11,Tabelle6!$A$2:$I$37,7)) -> 10 | AB11: =IF(D11="",0,VLOOKUP(D11,Tabelle6!$A$2:$I$37,8)) -> 0 | AC11: =IF(D11="",0,VLOOKUP(D11,Tabelle6!$A$2:$I$37,9)) -> 0
A12: 2 | B12: Kokosöl | C12: =IF(D12="","",VLOOKUP(B12,'VZ ändern'!$A$11:$C$46,3)) -> 0.1832 | D12: =IF(B12="-","",B12) -> Kokosöl | E12: 20 | F12: =IF($E$10="Prozent","%","g") -> % | G12: =IF(D12="","",IF($G$10="Gramm",E12*$C$4/100,E12*100/$E$21)) -> 50 | H12: =IF($G$10="Prozent","%","g") -> g | I12: =IF($I$10="NaOH",L12,IF($I$10="KOH",M12)) -> 7.786 | J12: =IF($J$10="KOH",M12,"") -> 12.135779 | K12: =IF(G12="","",IF($G$10="Gramm",G12,E12)) -> 50 | L12: =IF(G12="","",IF($C$7="",K12*C12*0.93,K12*C12-K12*C12*$C$7/100)) -> 7.786 | M12: =IF(G12="","",IF($C$8="",L12*1.4028,L12*1.4028/$C$8*100)) -> 12.135779 | N12: =IF(G12="",0,IF($G$10="Prozent",G12,E12)) -> 20 | O12: =IF(D12="",0,VLOOKUP(D12,'VZ ändern'!$A$11:$J$46,4)) -> 79 | P12: =IF(D12="",0,VLOOKUP(D12,'VZ ändern'!$A$11:$J$46,5)) -> 67 | Q12: =IF(D12="",0,VLOOKUP(D12,'VZ ändern'!$A$11:$J$46,6)) -> 10 | R12: =IF(D12="",0,VLOOKUP(D12,'VZ ändern'!$A$11:$J$46,7)) -> 67 | S12: =IF(D12="",0,VLOOKUP(D12,'VZ ändern'!$A$11:$J$46,8)) -> 12 | T12: =IF(D12="",0,VLOOKUP(D12,'VZ ändern'!$A$11:$J$46,10)) -> 10 | U12: =IF(D12="",0,VLOOKUP(D12,'VZ ändern'!$A$11:$J$46,9)) -> 258 | V12: =IF(D12="",0,VLOOKUP(D12,Tabelle6!$A$2:$I$37,2)) -> 49 | W12: =IF(D12="",0,VLOOKUP(D12,Tabelle6!$A$2:$I$37,3)) -> 19 | X12: =IF(D12="",0,VLOOKUP(D12,Tabelle6!$A$2:$I$37,4)) -> 9 | Y12: =IF(D12="",0,VLOOKUP(D12,Tabelle6!$A$2:$I$37,5)) -> 3 | Z12: =IF(D12="",0,VLOOKUP(D12,Tabelle6!$A$2:$I$37,6)) -> 0 | AA12: =IF(D12="",0,VLOOKUP(D12,Tabelle6!$A$2:$I$37,7)) -> 8 | AB12: =IF(D12="",0,VLOOKUP(D12,Tabelle6!$A$2:$I$37,8)) -> 2 | AC12: =IF(D12="",0,VLOOKUP(D12,Tabelle6!$A$2:$I$37,9)) -> 0
A13: 3 | B13: Avocadoöl | C13: =IF(D13="","",VLOOKUP(B13,'VZ ändern'!$A$11:$C$46,3)) -> 0.1335 | D13: =IF(B13="-","",B13) -> Avocadoöl | E13: 40 | F13: =IF($E$10="Prozent","%","g") -> % | G13: =IF(D13="","",IF($G$10="Gramm",E13*$C$4/100,E13*100/$E$21)) -> 100 | H13: =IF($G$10="Prozent","%","g") -> g | I13: =IF($I$10="NaOH",L13,IF($I$10="KOH",M13)) -> 11.3475 | J13: =IF($J$10="KOH",M13,"") -> 17.68697 | K13: =IF(G13="","",IF($G$10="Gramm",G13,E13)) -> 100 | L13: =IF(G13="","",IF($C$7="",K13*C13*0.93,K13*C13-K13*C13*$C$7/100)) -> 11.3475 | M13: =IF(G13="","",IF($C$8="",L13*1.4028,L13*1.4028/$C$8*100)) -> 17.68697 | N13: =IF(G13="",0,IF($G$10="Prozent",G13,E13)) -> 40 | O13: =IF(D13="",0,VLOOKUP(D13,'VZ ändern'!$A$11:$J$46,4)) -> 22 | P13: =IF(D13="",0,VLOOKUP(D13,'VZ ändern'!$A$11:$J$46,5)) -> 0 | Q13: =IF(D13="",0,VLOOKUP(D13,'VZ ändern'!$A$11:$J$46,6)) -> 70 | R13: =IF(D13="",0,VLOOKUP(D13,'VZ ändern'!$A$11:$J$46,7)) -> 0 | S13: =IF(D13="",0,VLOOKUP(D13,'VZ ändern'!$A$11:$J$46,8)) -> 22 | T13: =IF(D13="",0,VLOOKUP(D13,'VZ ändern'!$A$11:$J$46,10)) -> 86 | U13: =IF(D13="",0,VLOOKUP(D13,'VZ ändern'!$A$11:$J$46,9)) -> 99 | V13: =IF(D13="",0,VLOOKUP(D13,Tabelle6!$A$2:$I$37,2)) -> 0 | W13: =IF(D13="",0,VLOOKUP(D13,Tabelle6!$A$2:$I$37,3)) -> 0 | X13: =IF(D13="",0,VLOOKUP(D13,Tabelle6!$A$2:$I$37,4)) -> 20 | Y13: =IF(D13="",0,VLOOKUP(D13,Tabelle6!$A$2:$I$37,5)) -> 2 | Z13: =IF(D13="",0,VLOOKUP(D13,Tabelle6!$A$2:$I$37,6)) -> 0 | AA13: =IF(D13="",0,VLOOKUP(D13,Tabelle6!$A$2:$I$37,7)) -> 58 | AB13: =IF(D13="",0,VLOOKUP(D13,Tabelle6!$A$2:$I$37,8)) -> 12 | AC13: =IF(D13="",0,VLOOKUP(D13,Tabelle6!$A$2:$I$37,9)) -> 0
A14: 4 | B14: Olivenöl | C14: =IF(D14="","",VLOOKUP(B14,'VZ ändern'!$A$11:$C$46,3)) -> 0.1345 | D14: =IF(B14="-","",B14) -> Olivenöl | E14: 10 | F14: =IF($E$10="Prozent","%","g") -> % | G14: =IF(D14="","",IF($G$10="Gramm",E14*$C$4/100,E14*100/$E$21)) -> 25 | H14: =IF($G$10="Prozent","%","g") -> g | I14: =IF($I$10="NaOH",L14,IF($I$10="KOH",M14)) -> 2.858125 | J14: =IF($J$10="KOH",M14,"") -> 4.4548642 | K14: =IF(G14="","",IF($G$10="Gramm",G14,E14)) -> 25 | L14: =IF(G14="","",IF($C$7="",K14*C14*0.93,K14*C14-K14*C14*$C$7/100)) -> 2.858125 | M14: =IF(G14="","",IF($C$8="",L14*1.4028,L14*1.4028/$C$8*100)) -> 4.4548642 | N14: =IF(G14="",0,IF($G$10="Prozent",G14,E14)) -> 10 | O14: =IF(D14="",0,VLOOKUP(D14,'VZ ändern'!$A$11:$J$46,4)) -> 17 | P14: =IF(D14="",0,VLOOKUP(D14,'VZ ändern'!$A$11:$J$46,5)) -> 0 | Q14: =IF(D14="",0,VLOOKUP(D14,'VZ ändern'!$A$11:$J$46,6)) -> 82 | R14: =IF(D14="",0,VLOOKUP(D14,'VZ ändern'!$A$11:$J$46,7)) -> 0 | S14: =IF(D14="",0,VLOOKUP(D14,'VZ ändern'!$A$11:$J$46,8)) -> 17 | T14: =IF(D14="",0,VLOOKUP(D14,'VZ ändern'!$A$11:$J$46,10)) -> 85 | U14: =IF(D14="",0,VLOOKUP(D14,'VZ ändern'!$A$11:$J$46,9)) -> 105 | V14: =IF(D14="",0,VLOOKUP(D14,Tabelle6!$A$2:$I$37,2)) -> 0 | W14: =IF(D14="",0,VLOOKUP(D14,Tabelle6!$A$2:$I$37,3)) -> 0 | X14: =IF(D14="",0,VLOOKUP(D14,Tabelle6!$A$2:$I$37,4)) -> 14 | Y14: =IF(D14="",0,VLOOKUP(D14,Tabelle6!$A$2:$I$37,5)) -> 3 | Z14: =IF(D14="",0,VLOOKUP(D14,Tabelle6!$A$2:$I$37,6)) -> 0 | AA14: =IF(D14="",0,VLOOKUP(D14,Tabelle6!$A$2:$I$37,7)) -> 69 | AB14: =IF(D14="",0,VLOOKUP(D14,Tabelle6!$A$2:$I$37,8)) -> 12 | AC14: =IF(D14="",0,VLOOKUP(D14,Tabelle6!$A$2:$I$37,9)) -> 1
A15: 5 | B15: Myristinsäure | C15: =IF(D15="","",VLOOKUP(B15,'VZ ändern'!$A$11:$C$46,3)) -> 0.176 | D15: =IF(B15="-","",B15) -> Myristinsäure | E15: 5 | F15: =IF($E$10="Prozent","%","g") -> % | G15: =IF(D15="","",IF($G$10="Gramm",E15*$C$4/100,E15*100/$E$21)) -> 12.5 | H15: =IF($G$10="Prozent","%","g") -> g | I15: =IF($I$10="NaOH",L15,IF($I$10="KOH",M15)) -> 1.87 | J15: =IF($J$10="KOH",M15,"") -> 2.9147067 | K15: =IF(G15="","",IF($G$10="Gramm",G15,E15)) -> 12.5 | L15: =IF(G15="","",IF($C$7="",K15*C15*0.93,K15*C15-K15*C15*$C$7/100)) -> 1.87 | M15: =IF(G15="","",IF($C$8="",L15*1.4028,L15*1.4028/$C$8*100)) -> 2.9147067 | N15: =IF(G15="",0,IF($G$10="Prozent",G15,E15)) -> 5 | O15: =IF(D15="",0,VLOOKUP(D15,'VZ ändern'!$A$11:$J$46,4)) -> 99 | P15: =IF(D15="",0,VLOOKUP(D15,'VZ ändern'!$A$11:$J$46,5)) -> 99 | Q15: =IF(D15="",0,VLOOKUP(D15,'VZ ändern'!$A$11:$J$46,6)) -> 0 | R15: =IF(D15="",0,VLOOKUP(D15,'VZ ändern'!$A$11:$J$46,7)) -> 99 | S15: =IF(D15="",0,VLOOKUP(D15,'VZ ändern'!$A$11:$J$46,8)) -> 0 | T15: =IF(D15="",0,VLOOKUP(D15,'VZ ändern'!$A$11:$J$46,10)) -> 1 | U15: =IF(D15="",0,VLOOKUP(D15,'VZ ändern'!$A$11:$J$46,9)) -> 246 | V15: =IF(D15="",0,VLOOKUP(D15,Tabelle6!$A$2:$I$37,2)) -> 0 | W15: =IF(D15="",0,VLOOKUP(D15,Tabelle6!$A$2:$I$37,3)) -> 99 | X15: =IF(D15="",0,VLOOKUP(D15,Tabelle6!$A$2:$I$37,4)) -> 0 | Y15: =IF(D15="",0,VLOOKUP(D15,Tabelle6!$A$2:$I$37,5)) -> 0 | Z15: =IF(D15="",0,VLOOKUP(D15,Tabelle6!$A$2:$I$37,6)) -> 0 | AA15: =IF(D15="",0,VLOOKUP(D15,Tabelle6!$A$2:$I$37,7)) -> 0 | AB15: =IF(D15="",0,VLOOKUP(D15,Tabelle6!$A$2:$I$37,8)) -> 0 | AC15: =IF(D15="",0,VLOOKUP(D15,Tabelle6!$A$2:$I$37,9)) -> 0
A16: 6 | B16: - | C16: =IF(D16="","",VLOOKUP(B16,'VZ ändern'!$A$11:$C$46,3)) | D16: =IF(B16="-","",B16) | F16: =IF($E$10="Prozent","%","g") -> % | G16: =IF(D16="","",IF($G$10="Gramm",E16*$C$4/100,E16*100/$E$21)) | H16: =IF($G$10="Prozent","%","g") -> g | I16: =IF($I$10="NaOH",L16,IF($I$10="KOH",M16)) | J16: =IF($J$10="KOH",M16,"") | K16: =IF(G16="","",IF($G$10="Gramm",G16,E16)) | L16: =IF(G16="","",IF($C$7="",K16*C16*0.93,K16*C16-K16*C16*$C$7/100)) | M16: =IF(G16="","",IF($C$8="",L16*1.4028,L16*1.4028/$C$8*100)) | N16: =IF(G16="",0,IF($G$10="Prozent",G16,E16)) -> 0 | O16: =IF(D16="",0,VLOOKUP(D16,'VZ ändern'!$A$11:$J$46,4)) -> 0 | P16: =IF(D16="",0,VLOOKUP(D16,'VZ ändern'!$A$11:$J$46,5)) -> 0 | Q16: =IF(D16="",0,VLOOKUP(D16,'VZ ändern'!$A$11:$J$46,6)) -> 0 | R16: =IF(D16="",0,VLOOKUP(D16,'VZ ändern'!$A$11:$J$46,7)) -> 0 | S16: =IF(D16="",0,VLOOKUP(D16,'VZ ändern'!$A$11:$J$46,8)) -> 0 | T16: =IF(D16="",0,VLOOKUP(D16,'VZ ändern'!$A$11:$J$46,10)) -> 0 | U16: =IF(D16="",0,VLOOKUP(D16,'VZ ändern'!$A$11:$J$46,9)) -> 0 | V16: =IF(D16="",0,VLOOKUP(D16,Tabelle6!$A$2:$I$37,2)) -> 0 | W16: =IF(D16="",0,VLOOKUP(D16,Tabelle6!$A$2:$I$37,3)) -> 0 | X16: =IF(D16="",0,VLOOKUP(D16,Tabelle6!$A$2:$I$37,4)) -> 0 | Y16: =IF(D16="",0,VLOOKUP(D16,Tabelle6!$A$2:$I$37,5)) -> 0 | Z16: =IF(D16="",0,VLOOKUP(D16,Tabelle6!$A$2:$I$37,6)) -> 0 | AA16: =IF(D16="",0,VLOOKUP(D16,Tabelle6!$A$2:$I$37,7)) -> 0 | AB16: =IF(D16="",0,VLOOKUP(D16,Tabelle6!$A$2:$I$37,8)) -> 0 | AC16: =IF(D16="",0,VLOOKUP(D16,Tabelle6!$A$2:$I$37,9)) -> 0
A17: 7 | B17: - | C17: =IF(D17="","",VLOOKUP(B17,'VZ ändern'!$A$11:$C$46,3)) | D17: =IF(B17="-","",B17) | F17: =IF($E$10="Prozent","%","g") -> % | G17: =IF(D17="","",IF($G$10="Gramm",E17*$C$4/100,E17*100/$E$21)) | H17: =IF($G$10="Prozent","%","g") -> g | I17: =IF($I$10="NaOH",L17,IF($I$10="KOH",M17)) | J17: =IF($J$10="KOH",M17,"") | K17: =IF(G17="","",IF($G$10="Gramm",G17,E17)) | L17: =IF(G17="","",IF($C$7="",K17*C17*0.93,K17*C17-K17*C17*$C$7/100)) | M17: =IF(G17="","",IF($C$8="",L17*1.4028,L17*1.4028/$C$8*100)) | N17: =IF(G17="",0,IF($G$10="Prozent",G17,E17)) -> 0 | O17: =IF(D17="",0,VLOOKUP(D17,'VZ ändern'!$A$11:$J$46,4)) -> 0 | P17: =IF(D17="",0,VLOOKUP(D17,'VZ ändern'!$A$11:$J$46,5)) -> 0 | Q17: =IF(D17="",0,VLOOKUP(D17,'VZ ändern'!$A$11:$J$46,6)) -> 0 | R17: =IF(D17="",0,VLOOKUP(D17,'VZ ändern'!$A$11:$J$46,7)) -> 0 | S17: =IF(D17="",0,VLOOKUP(D17,'VZ ändern'!$A$11:$J$46,8)) -> 0 | T17: =IF(D17="",0,VLOOKUP(D17,'VZ ändern'!$A$11:$J$46,10)) -> 0 | U17: =IF(D17="",0,VLOOKUP(D17,'VZ ändern'!$A$11:$J$46,9)) -> 0 | V17: =IF(D17="",0,VLOOKUP(D17,Tabelle6!$A$2:$I$37,2)) -> 0 | W17: =IF(D17="",0,VLOOKUP(D17,Tabelle6!$A$2:$I$37,3)) -> 0 | X17: =IF(D17="",0,VLOOKUP(D17,Tabelle6!$A$2:$I$37,4)) -> 0 | Y17: =IF(D17="",0,VLOOKUP(D17,Tabelle6!$A$2:$I$37,5)) -> 0 | Z17: =IF(D17="",0,VLOOKUP(D17,Tabelle6!$A$2:$I$37,6)) -> 0 | AA17: =IF(D17="",0,VLOOKUP(D17,Tabelle6!$A$2:$I$37,7)) -> 0 | AB17: =IF(D17="",0,VLOOKUP(D17,Tabelle6!$A$2:$I$37,8)) -> 0 | AC17: =IF(D17="",0,VLOOKUP(D17,Tabelle6!$A$2:$I$37,9)) -> 0
A18: 8 | B18: - | C18: =IF(D18="","",VLOOKUP(B18,'VZ ändern'!$A$11:$C$46,3)) | D18: =IF(B18="-","",B18) | F18: =IF($E$10="Prozent","%","g") -> % | G18: =IF(D18="","",IF($G$10="Gramm",E18*$C$4/100,E18*100/$E$21)) | H18: =IF($G$10="Prozent","%","g") -> g | I18: =IF($I$10="NaOH",L18,IF($I$10="KOH",M18)) | J18: =IF($J$10="KOH",M18,"") | K18: =IF(G18="","",IF($G$10="Gramm",G18,E18)) | L18: =IF(G18="","",IF($C$7="",K18*C18*0.93,K18*C18-K18*C18*$C$7/100)) | M18: =IF(G18="","",IF($C$8="",L18*1.4028,L18*1.4028/$C$8*100)) | N18: =IF(G18="",0,IF($G$10="Prozent",G18,E18)) -> 0 | O18: =IF(D18="",0,VLOOKUP(D18,'VZ ändern'!$A$11:$J$46,4)) -> 0 | P18: =IF(D18="",0,VLOOKUP(D18,'VZ ändern'!$A$11:$J$46,5)) -> 0 | Q18: =IF(D18="",0,VLOOKUP(D18,'VZ ändern'!$A$11:$J$46,6)) -> 0 | R18: =IF(D18="",0,VLOOKUP(D18,'VZ ändern'!$A$11:$J$46,7)) -> 0 | S18: =IF(D18="",0,VLOOKUP(D18,'VZ ändern'!$A$11:$J$46,8)) -> 0 | T18: =IF(D18="",0,VLOOKUP(D18,'VZ ändern'!$A$11:$J$46,10)) -> 0 | U18: =IF(D18="",0,VLOOKUP(D18,'VZ ändern'!$A$11:$J$46,9)) -> 0 | V18: =IF(D18="",0,VLOOKUP(D18,Tabelle6!$A$2:$I$37,2)) -> 0 | W18: =IF(D18="",0,VLOOKUP(D18,Tabelle6!$A$2:$I$37,3)) -> 0 | X18: =IF(D18="",0,VLOOKUP(D18,Tabelle6!$A$2:$I$37,4)) -> 0 | Y18: =IF(D18="",0,VLOOKUP(D18,Tabelle6!$A$2:$I$37,5)) -> 0 | Z18: =IF(D18="",0,VLOOKUP(D18,Tabelle6!$A$2:$I$37,6)) -> 0 | AA18: =IF(D18="",0,VLOOKUP(D18,Tabelle6!$A$2:$I$37,7)) -> 0 | AB18: =IF(D18="",0,VLOOKUP(D18,Tabelle6!$A$2:$I$37,8)) -> 0 | AC18: =IF(D18="",0,VLOOKUP(D18,Tabelle6!$A$2:$I$37,9)) -> 0
A19: 9 | B19: - | C19: =IF(D19="","",VLOOKUP(B19,'VZ ändern'!$A$11:$C$46,3)) | D19: =IF(B19="-","",B19) | F19: =IF($E$10="Prozent","%","g") -> % | G19: =IF(D19="","",IF($G$10="Gramm",E19*$C$4/100,E19*100/$E$21)) | H19: =IF($G$10="Prozent","%","g") -> g | I19: =IF($I$10="NaOH",L19,IF($I$10="KOH",M19)) | J19: =IF($J$10="KOH",M19,"") | K19: =IF(G19="","",IF($G$10="Gramm",G19,E19)) | L19: =IF(G19="","",IF($C$7="",K19*C19*0.93,K19*C19-K19*C19*$C$7/100)) | M19: =IF(G19="","",IF($C$8="",L19*1.4028,L19*1.4028/$C$8*100)) | N19: =IF(G19="",0,IF($G$10="Prozent",G19,E19)) -> 0 | O19: =IF(D19="",0,VLOOKUP(D19,'VZ ändern'!$A$11:$J$46,4)) -> 0 | P19: =IF(D19="",0,VLOOKUP(D19,'VZ ändern'!$A$11:$J$46,5)) -> 0 | Q19: =IF(D19="",0,VLOOKUP(D19,'VZ ändern'!$A$11:$J$46,6)) -> 0 | R19: =IF(D19="",0,VLOOKUP(D19,'VZ ändern'!$A$11:$J$46,7)) -> 0 | S19: =IF(D19="",0,VLOOKUP(D19,'VZ ändern'!$A$11:$J$46,8)) -> 0 | T19: =IF(D19="",0,VLOOKUP(D19,'VZ ändern'!$A$11:$J$46,10)) -> 0 | U19: =IF(D19="",0,VLOOKUP(D19,'VZ ändern'!$A$11:$J$46,9)) -> 0 | V19: =IF(D19="",0,VLOOKUP(D19,Tabelle6!$A$2:$I$37,2)) -> 0 | W19: =IF(D19="",0,VLOOKUP(D19,Tabelle6!$A$2:$I$37,3)) -> 0 | X19: =IF(D19="",0,VLOOKUP(D19,Tabelle6!$A$2:$I$37,4)) -> 0 | Y19: =IF(D19="",0,VLOOKUP(D19,Tabelle6!$A$2:$I$37,5)) -> 0 | Z19: =IF(D19="",0,VLOOKUP(D19,Tabelle6!$A$2:$I$37,6)) -> 0 | AA19: =IF(D19="",0,VLOOKUP(D19,Tabelle6!$A$2:$I$37,7)) -> 0 | AB19: =IF(D19="",0,VLOOKUP(D19,Tabelle6!$A$2:$I$37,8)) -> 0 | AC19: =IF(D19="",0,VLOOKUP(D19,Tabelle6!$A$2:$I$37,9)) -> 0
A20: 10 | B20: Weizenkeimöl | C20: 0.13 | D20: =IF(B20="","",B20) -> Weizenkeimöl | E20: 5 | F20: =IF($E$10="Prozent","%","g") -> % | G20: =IF(D20="","",IF($G$10="Gramm",E20*$C$4/100,E20*100/$E$21)) -> 12.5 | H20: =IF($G$10="Prozent","%","g") -> g | I20: =IF($I$10="NaOH",L20,IF($I$10="KOH",M20)) -> 1.38125 | J20: =IF($J$10="KOH",M20,"") -> 2.1529083 | K20: =IF(G20="","",IF($G$10="Gramm",G20,E20)) -> 12.5 | L20: =IF(G20="","",IF($C$7="",K20*C20*0.93,K20*C20-K20*C20*$C$7/100)) -> 1.38125 | M20: =IF(G20="","",IF($C$8="",L20*1.4028,L20*1.4028/$C$8*100)) -> 2.1529083 | N20: =IF(G20="",0,IF($G$10="Prozent",G20,E20)) -> 5
D21: Summe: | E21: =SUM(E11:E20) -> 100 | F21: =IF($E$10="Prozent","%","g") -> % | G21: =SUM(G11:G20) -> 250 | H21: =IF($G$10="Prozent","%","g") -> g | I21: =IF($I$9="Mischverseifung",SUM(I11:I20)*E25/100,SUM(I11:I20)) -> 22.867337 | J21: =IF($I$9="Mischverseifung",SUM(J11:J20)*E26/100,SUM(J11:J20)) -> 15.275381 | K21: =SUM(K11:K20) -> 250 | L21: =SUM(L11:L20) -> 32.667625 | M21: =SUM(M11:M20) -> 50.917938 | O21: =(O11*$N$11+O12*$N$12+O13*$N$13+O14*$N$14+O15*$N$15+O16*$N$16+O17*$N$17+O18*$N$18+O19*$N$19+O20*$N$20)/100 -> 48.25 | P21: =(P11*$N$11+P12*$N$12+P13*$N$13+P14*$N$14+P15*$N$15+P16*$N$16+P17*$N$17+P18*$N$18+P19*$N$19+P20*$N$20)/100 -> 32.35 | Q21: =(Q11*$N$11+Q12*$N$12+Q13*$N$13+Q14*$N$14+Q15*$N$15+Q16*$N$16+Q17*$N$17+Q18*$N$18+Q19*$N$19+Q20*$N$20)/100 -> 40.2 | R21: =(R11*$N$11+R12*$N$12+R13*$N$13+R14*$N$14+R15*$N$15+R16*$N$16+R17*$N$17+R18*$N$18+R19*$N$19+R20*$N$20)/100 -> 32.35 | S21: =(S11*$N$11+S12*$N$12+S13*$N$13+S14*$N$14+S15*$N$15+S16*$N$16+S17*$N$17+S18*$N$18+S19*$N$19+S20*$N$20)/100 -> 15.9 | T21: =(T11*$N$11+T12*$N$12+T13*$N$13+T14*$N$14+T15*$N$15+T16*$N$16+T17*$N$17+T18*$N$18+T19*$N$19+T20*$N$20)/100 -> 47.95 | U21: =(U11*$N$11+U12*$N$12+U13*$N$13+U14*$N$14+U15*$N$15+U16*$N$16+U17*$N$17+U18*$N$18+U19*$N$19+U20*$N$20)/100 -> 160 | V21: =(V11*N11+V12*N12+V13*N13+V14*N14+V15*N15+V16*N16+V17*N17+V18*N18+V19*N19+V20*N20)/100 -> 19.8 | W21: =(W11*N11+W12*N12+W13*N13+W14*N14+W15*N15+W16*N16+W17*N17+W18*N18+W19*N19+W20*N20)/100 -> 12.75 | X21: =(X11*N11+X12*N12+X13*N13+X14*N14+X15*N15+X16*N16+X17*N17+X18*N18+X19*N19+X20*N20)/100 -> 13.4 | Y21: =(Y11*N11+Y12*N12+Y13*N13+Y14*N14+Y15*N15+Y16*N16+Y17*N17+Y18*N18+Y19*N19+Y20*N20)/100 -> 2.5 | Z21: =(Z11*N11+Z12*N12+Z13*N13+Z14*N14+Z15*N15+Z16*N16+Z17*N17+Z18*N18+Z19*N19+Z20*N20)/100 -> 0 | AA21: =(AA11*N11+AA12*N12+AA13*N13+AA14*N14+AA15*N15+AA16*N16+AA17*N17+AA18*N18+AA19*N19+AA20*N20)/100 -> 33.7 | AB21: =(AB11*N11+AB12*N12+AB13*N13+AB14*N14+AB15*N15+AB16*N16+AB17*N17+AB18*N18+AB19*N19+AB20*N20)/100 -> 6.4 | AC21: =(AC11*N11+AC12*N12+AC13*N13+AC14*N14+AC15*N15+AC16*N16+AC17*N17+AC18*N18+AC19*N19+AC20*N20)/100 -> 0.1
B22: Zusätze | E22: =IF(OR(AND(E10="Prozent",E21=100),E10="Gramm"),"","Summe muss 100 ergeben!") | O22: 29-54 | P22: 12-22 | Q22: 44-69 | R22: 14-46 | S22: 16-48 | T22: 41-70 | U22: 136-165
B23: Zitronensäure | C23: ='VZ ändern'!C49 -> 0.571 | D23: =B23 -> Zitronensäure | F23: % | G23: =IF(D23="-","",IF(E23="","",E23*K21/100)) | H23: g | I23: =IF($I$10="NaOH",L23,IF($I$10="KOH",M23)) -> 0 | L23: =IF(G23="",0,G23*C23) -> 0 | M23: =IF(G23="",0,G23*C23*1.4028) -> 0
E25: =IF(C6="NaOH/KOH",E6,"") -> 70 | F25: =IF(E25="","","%") -> % | G25: =I10 -> NaOH | I25: =IF(E10="Gramm",SUM(I21:I23),IF(AND(E21=100,E10="Prozent"),SUM(I21:I23),"")) -> 22.867337 | J25: =IF(I25="","","g") -> g | L25: =SUM(L21:L23) -> 32.667625 | M25: =SUM(M21:M23) -> 50.917938
B26: Eigenschaften der Seife (Referenzbereich) | C26: Dein Rezept | E26: =IF(C6="NaOH/KOH",E7,"") -> 30 | F26: =IF(E26="","","%") -> % | G26: =IF(J10="KOH","KOH","") -> KOH | I26: =IF(E10="Gramm",J21,IF(AND(E21=100,E10="Prozent",J10="KOH"),J21,"")) -> 15.275381 | J26: =IF(I26="","","g") -> g
B27: Härte ( 29-54 ) | C27: =O21 -> 48.25
B28: Reinigung ( 12-22 ) | C28: =P21 -> 32.35
B29: Pflege ( 44-69 ) | C29: =Q21 -> 40.2
B30: Schaum ( 14-46 ) | C30: =R21 -> 32.35
B31: Cremigkeit ( 16-48 ) | C31: =S21 -> 15.9
B32: Jod ( 41-70 ) | C32: =T21 -> 47.95
B33: INS ( 136-165 ) | C33: =U21 -> 160
B35: Erklärung zu den Eigenschaften (wie bei der Ampel)
B36: im Referenzbereich
B37: nah am Referenzbereich (+/- 4)
B38: nicht im Referenzbereich
B40: Die Nutzung des Seifenrechners erfolgt auf eigene Gefahr.
B41: Eingaben sind nur in grünen Feldern möglich.
B42: Fragen, Hinweise und Wünsche bitte per Mail an info@seifenteufel.de
B43: Falls Du bei bestimmten Ölen andere Verseifungszahlen nehmen willst,
B44: kannst Du diese durch Klick auf das rote Register „VZ ändern“ eingeben.
B45: Das Öl Nr. 10 kannst Du manuell eingeben und auch die
B46: Verseifungszahl rechts daneben. Dieses Öl wird dann allerdings
B47: bei Eigenschaften und Fettsäuren berücksichtigt.
... B89: -

Sheet Rezeptdruck
B1: Rezeptname: | C1: =Rezepteingabe!C1 -> Testseife
B2: hergestellt am: | C2: =Rezepteingabe!C2 -> 42530
B3: Überfettung in %: | C3: =IF(Rezepteingabe!C7="","7",Rezepteingabe!C7) -> 15
B4: Lauge hergestellt mit | C4: =Rezepteingabe!C6&" "&"Herstellungsart:"&" "&Rezepteingabe!E2 -> NaOH/KOH Herstellungsart: OHP
C5: GFM | E5: =Rezepteingabe!K21 -> 250
C6: Gewicht Seifenleim | E6: =SUM(E8:E14,E17:E25,E27:E33) -> 370.64272
B7: Inhaltsstoffe | C7: INCI | D7: % | E7: Gramm
B8: =Rezepteingabe!J5 -> Wasser | C8: =IF(B8="Ziegenmilch","Goat milk",IF(B8="Schafmilch","Sheep milk",IF(B8="Bier","bear","Aqua"))) -> Aqua | D8: =Rezepteingabe!C5 -> 35 | E8: =Rezepteingabe!E5 -> 87.5
B9: =IF(E9="","",Rezepteingabe!D23) | C9: =IF(B9="Zitronensäure","Sodium Citrat","") | D9: =IF(Rezepteingabe!E23=0,"",Rezepteingabe!E23) | E9: =Rezepteingabe!G23
B10: NaOH | C10: Sodium Hydroxide | D10: =IF(Rezepteingabe!C6="NaOH",100,IF(Rezepteingabe!C6="KOH","",Rezepteingabe!E6)) -> 70 | E10: =IF(D10="","",D10*Rezepteingabe!L21/100+Rezepteingabe!L23) -> 22.867337
B11: =IF(E11="","","KOH") -> KOH | C11: =IF(E11="","","Potassium Hydroxide") -> Potassium Hydroxide | D11: =IF(Rezepteingabe!C6="KOH",100,IF(Rezepteingabe!C6="NaOH","",Rezepteingabe!E7)) -> 30 | E11: =IF(D11="","",IF(D11=100,Rezepteingabe!I25,D11*Rezepteingabe!M21/100)) -> 15.275381
B12: Duft | D12: =Rezepteingabe!E3 -> 3 | E12: =Rezepteingabe!J3 -> 7.5
B15: Fette | C15: INCI | D15: % | E15: Gramm
A16: 1 | B16: =Rezepteingabe!D20 -> Weizenkeimöl | D16: =IF(Rezepteingabe!N20=0,"",Rezepteingabe!N20) -> 5 | E16: =Rezepteingabe!K20 -> 12.5
A17: 2 | B17: =Rezepteingabe!D11 -> Babassu | C17: =IF(B17="","",VLOOKUP(B17,'VZ ändern'!$A$11:$B$46,2)) -> Orbignya Oleifera (Babassu) Seed Oil | D17: =IF(Rezepteingabe!N11=0,"",Rezepteingabe!N11) -> 20 | E17: =Rezepteingabe!K11 -> 50
A18: 3 | B18: =Rezepteingabe!D12 -> Kokosöl | C18: =IF(B18="","",VLOOKUP(B18,'VZ ändern'!$A$11:$B$46,2)) -> Cocos Nucifera (Coconut) Oil | D18: =IF(Rezepteingabe!N12=0,"",Rezepteingabe!N12) -> 20 | E18: =Rezepteingabe!K12 -> 50
A19: 4 | B19: =Rezepteingabe!D13 -> Avocadoöl | C19: =IF(B19="","",VLOOKUP(B19,'VZ ändern'!$A$11:$B$46,2)) -> Persea Gratissima (Avocado) Oil | D19: =IF(Rezepteingabe!N13=0,"",Rezepteingabe!N13) -> 40 | E19: =Rezepteingabe!K13 -> 100
A20: 5 | B20: =Rezepteingabe!D14 -> Olivenöl | C20: =IF(B20="","",VLOOKUP(B20,'VZ ändern'!$A$11:$B$46,2)) -> Olea Europaea (Olive) Fruit Oil | D20: =IF(Rezepteingabe!N14=0,"",Rezepteingabe!N14) -> 10 | E20: =Rezepteingabe!K14 -> 25
A21: 6 | B21: =Rezepteingabe!D15 -> Myristinsäure | C21: =IF(B21="","",VLOOKUP(B21,'VZ ändern'!$A$11:$B$46,2)) -> Myristic Acids | D21: =IF(Rezepteingabe!N15=0,"",Rezepteingabe!N15) -> 5 | E21: =Rezepteingabe!K15 -> 12.5
A22: 7 | B22: =Rezepteingabe!D16 | C22: =IF(B22="","",VLOOKUP(B22,'VZ ändern'!$A$11:$B$46,2)) | D22: =IF(Rezepteingabe!N16=0,"",Rezepteingabe!N16) | E22: =Rezepteingabe!K16
A23: 8 | B23: =Rezepteingabe!D17 | C23: =IF(B23="","",VLOOKUP(B23,'VZ ändern'!$A$11:$B$46,2)) | D23: =IF(Rezepteingabe!N17=0,"",Rezepteingabe!N17) | E23: =Rezepteingabe!K17
A24: 9 | B24: =Rezepteingabe!D18 | C24: =IF(B24="","",VLOOKUP(B24,'VZ ändern'!$A$11:$B$46,2)) | D24: =IF(Rezepteingabe!N18=0,"",Rezepteingabe!N18) | E24: =Rezepteingabe!K18
A25: 10 | B25: =Rezepteingabe!D19 | C25: =IF(B25="","",VLOOKUP(B25,'VZ ändern'!$A$11:$B$46,2)) | D25: =IF(Rezepteingabe!N19=0,"",Rezepteingabe!N19) | E25: =Rezepteingabe!K19
B26: Zusätze | C26: INCI | E26: Gramm
B34: Notizen | E34: Foto
B47: Eigenschaften | C47: Dein Rezept | E47: Fettsäuren
B48: Härte ( 29-54 ) | C48: =Rezepteingabe!O21 -> 48.25 | D48: =Rezepteingabe!V21 -> 19.8 | E48: Laurinsäure
B49: Reinigung ( 12-22 ) | C49: =Rezepteingabe!P21 -> 32.35 | D49: =Rezepteingabe!W21 -> 12.75 | E49: Myristinsäure
B50: Pflege ( 44-69 ) | C50: =Rezepteingabe!Q21 -> 40.2 | D50: =Rezepteingabe!X21 -> 13.4 | E50: Palmitinsäure
B51: Schaum ( 14-46 ) | C51: =Rezepteingabe!R21 -> 32.35 | D51: =Rezepteingabe!Y21 -> 2.5 | E51: Stearinsäure
B52: Cremigkeit ( 16-48 ) | C52: =Rezepteingabe!S21 -> 15.9 | D52: =Rezepteingabe!Z21 -> 0 | E52: Ricinsäure
B53: Jod ( 41-70 ) | C53: =Rezepteingabe!T21 -> 47.95 | D53: =Rezepteingabe!AA21 -> 33.7 | E53: Ölsäure
B54: INS ( 136-165 ) | C54: =Rezepteingabe!U21 -> 160 | D54: =Rezepteingabe!AB21 -> 6.4 | E54: Linolsäure
D55: =Rezepteingabe!AC21 -> 0.1 | E55: Linolensäure

Sheet Etikett deutsch
A1: =IF(Tabelle5!H3="","",Tabelle5!H3)&", "&IF(Tabelle5!H4="","",Tabelle5!H4)&", "&IF(Tabelle5!H5="","",Tabelle5!H5)&", "&IF(Tabelle5!H6="","",Tabelle5!H6)&", "&IF(Tabelle5!H7="!","",Tabelle5!H7)&", "&IF(Tabelle5!H8="","",Tabelle5!H8)&", "&IF(Tabelle5!H9="","",Tabelle5!H9)&", "&IF(Tabelle5!H10="!","",Tabelle5!H10)&", "&IF(Tabelle5!H11="","",Tabelle5!H11)&", "&IF(Tabelle5!H12="","",Tabelle5!H12)&", "&IF(Tabelle5!H13="","",Tabelle5!H13)&", "&IF(Tabelle5!H14="","",Tabelle5!H14)&", "&IF(Tabelle5!H15="","",Tabelle5!H15)&", "&IF(Tabelle5!H16="","",Tabelle5!H16&", "&IF(Tabelle5!H17="","",Tabelle5!H17)) -> Avocadoöl, Wasser, Kokosöl, Babassu, Olivenöl, NaOH, KOH, Myristinsäure, Weizenkeimöl, Duft, , , , | B1: =$A$1 -> Avocadoöl, Wasser, Kokosöl, Babassu, Olivenöl, NaOH, KOH, Myristinsäure, Weizenkeimöl, Duft, , , , | C1: =$A$1 -> Avocadoöl, Wasser, Kokosöl, Babassu, Olivenöl, NaOH, KOH, Myristinsäure, Weizenkeimöl, Duft, , , ,
A2: =$A$1 -> Avocadoöl, Wasser, Kokosöl, Babassu, Olivenöl, NaOH, KOH, Myristinsäure, Weizenkeimöl, Duft, , , , | B2: =$A$1 -> Avocadoöl, Wasser, Kokosöl, Babassu, Olivenöl, NaOH, KOH, Myristinsäure, Weizenkeimöl, Duft, , , , | C2: =$A$1 -> Avocadoöl, Wasser, Kokosöl, Babassu, Olivenöl, NaOH, KOH, Myristinsäure, Weizenkeimöl, Duft, , , ,
A3: =$A$1 -> Avocadoöl, Wasser, Kokosöl, Babassu, Olivenöl, NaOH, KOH, Myristinsäure, Weizenkeimöl, Duft, , , , | B3: =$A$1 -> Avocadoöl, Wasser, Kokosöl, Babassu, Olivenöl, NaOH, KOH, Myristinsäure, Weizenkeimöl, Duft, , , , | C3: =$A$1 -> Avocadoöl, Wasser, Kokosöl, Babassu, Olivenöl, NaOH, KOH, Myristinsäure, Weizenkeimöl, Duft, , , ,

Sheet Etikett INCI
A1: =IF(Tabelle5!I3="","",Tabelle5!I3)&", "&IF(Tabelle5!I4="","",Tabelle5!I4)&", "&IF(Tabelle5!I5="","",Tabelle5!I5)&", "&IF(Tabelle5!I6="","",Tabelle5!I6)&", "&IF(Tabelle5!I7="","",Tabelle5!I7)&", "&IF(Tabelle5!I8="","",Tabelle5!I8)&", "&IF(Tabelle5!I9="","",Tabelle5!I9)&", "&IF(Tabelle5!I10="","",Tabelle5!I10)&", "&IF(Tabelle5!I11="!","",Tabelle5!I11)&", "&IF(Tabelle5!I12="","",Tabelle5!I12)&", "&IF(Tabelle5!I13="","",Tabelle5!I13)&", "&IF(Tabelle5!I14="","",Tabelle5!I14)&", "&IF(Tabelle5!I15="","",Tabelle5!I15)&", "&IF(Tabelle5!I16="","",Tabelle5!I16)&", "&IF(Tabelle5!I17="","",Tabelle5!I17) -> Persea Gratissima (Avocado) Oil, Aqua, Cocos Nucifera (Coconut) Oil, Orbignya Oleifera (Babassu) Seed Oil, Olea Europaea (Olive) Fruit Oil, Sodium Hydroxide, Potassium Hydroxide, Myristic Acids, 0, 0, , , , ,

Sheet VZ ändern
A9: Inhaltsstoff | B9: INCI Bezeichnung | C9: VZ NaOH | D9: Härte | E9: Reinigu | F9: Pflege | G9: Schaum | H9: crema | I9: INS | J9: Jod | K9: Inhaltsstoff
A10: -
A11: Aprikosenkernöl | B11: Prunus Armeniaca (Apricot) Kernel Oil | C11: 0.139 | D11: 6 | E11: 0 | F11: 93 | G11: 0 | H11: 6 | I11: 91 | J11: 100 | K11: Aprikosenkernöl
A12: Arganöl | B12: Argania Spinosa Oil | C12: 0.136 | D12: 15 | E12: 1 | F12: 81 | G12: 1 | H12: 14 | I12: 95 | J12: 95 | K12: Arganöl
A13: Avocadoöl | B13: Persea Gratissima (Avocado) Oil | C13: 0.1335 | D13: 22 | E13: 0 | F13: 70 | G13: 0 | H13: 22 | I13: 99 | J13: 86 | K13: Avocadoöl
A14: Babassu | B14: Orbignya Oleifera (Babassu) Seed Oil | C14: 0.1747 | D14: 85 | E14: 70 | F14: 10 | G14: 70 | H14: 15 | I14: 230 | J14: 15 | K14: Babassu
A15: Bienenwachs | B15: Cera Flava | C15: 0.067 | D15: 90 | E15: 0 | F15: 50 | G15: 0 | H15: 50 | I15: 84 | J15: 10 | K15: Bienenwachs
A16: Distelöl HO | B16: Carthamus Tinctorius (Safflower) Oil | C16: 0.1355 | D16: 7 | E16: 0 | F16: 92 | G16: 0 | H16: 11 | I16: 97 | J16: 93 | K16: Distelöl ölsäurereich
A17: Erdnussöl | B17: Arachis Hypogaea Oil | C17: 0.137 | D17: 11 | E17: 0 | F17: 82 | G17: 0 | H17: 8 | I17: 99 | J17: 92 | K17: Erdnussöl
A18: Jojobaöl | B18: Simmondsia Chinensis (Jojoba) Seed Oil | C18: 0.066 | D18: 0 | E18: 0 | F18: 12 | G18: 0 | H18: 0 | I18: 11 | J18: 83 | K18: Jojobaöl
A19: Kakaobutter | B19: Theobroma Cacao (Cocoa) Seed Butter | C19: 0.1383 | D19: 61 | E19: 0 | F19: 38 | G19: 0 | H19: 61 | I19: 157 | J19: 37 | K19: Kakaobutter
A20: Kokosöl | B20: Cocos Nucifera (Coconut) Oil | C20: 0.1832 | D20: 79 | E20: 67 | F20: 10 | G20: 67 | H20: 12 | I20: 258 | J20: 10 | K20: Kokosöl
A21: Kürbiskernöl | B21: Cucurbita pepo | C21: 0.139 | D21: 19 | E21: 0 | F21: 83 | G21: 0 | H21: 19 | I21: 67 | J21: 128 | K21: Kürbiskernöl
A22: Lanolin | B22: Adeps lanae anhydricus | C22: 0.075 | D22: 0 | E22: 0 | F22: 0 | G22: 0 | H22: 0 | I22: 83 | J22: 27 | K22: Lanolin
... A46: Walnussöl | B46: Juglans Regia (Walnut) Oil | C46: 0.1335 | D46: 9 | E46: 0 | F46: 78 | G46: 0 | H46: 9 | I46: 45 | J46: 145 | K46: Walnussöl
A47: -
K48: Zusätze
C49: 0.571 | K49: Zitronensäure
A52: NaOH
A53: KOH
A54: NaOH / KOH

Sheet Tabelle5
A1: Hilfstabelle Sortierung Etiketten | C1: Muss noch manuell sortiert werden | D1: Hilfsspalte | E1: Liste absteigend sortiert | F1: Hilfsspalte
A3: =IF(Rezeptdruck!E8="","",Rezeptdruck!E8) -> 87.5 | B3: =IF(A3="","",Rezeptdruck!B8) -> Wasser | C3: =IF(B3="","",Rezeptdruck!C8) -> Aqua | D3: =IF(A3="",0,A3+ROW(A3)/1000) -> 87.503 | E3: =INDEX($A$3:$A$26,MATCH(F3,$D$3:$D$26,0)) -> 100 | F3: =LARGE($D$3:$D$26,ROWS($F$3:F3)) -> 100.013 | G3: =MATCH(F3,$D$1:$D$26,0) -> 13 | H3: =INDEX($B$1:$B$26,G3) -> Avocadoöl | I3: =INDEX($C$1:$C$26,G3) -> Persea Gratissima (Avocado) Oil
A4: =IF(Rezeptdruck!E9="","",Rezeptdruck!E9) | B4: =IF(A4="","",Rezeptdruck!B9) | C4: =IF(B4="","",Rezeptdruck!C9) | D4: =IF(A4="",0,A4+ROW(A4)/1000) -> 0 | E4: =INDEX($A$3:$A$26,MATCH(F4,$D$3:$D$26,0)) -> 87.5 | F4: =LARGE($D$3:$D$26,ROWS($F$3:F4)) -> 87.503 | G4: =MATCH(F4,$D$1:$D$26,0) -> 3 | H4: =INDEX($B$1:$B$26,G4) -> Wasser | I4: =INDEX($C$1:$C$26,G4) -> Aqua
A5: =IF(Rezeptdruck!E10="","",Rezeptdruck!E10) -> 22.867337 | B5: =IF(A5="","",Rezeptdruck!B10) -> NaOH | C5: =IF(B5="","",Rezeptdruck!C10) -> Sodium Hydroxide | D5: =IF(A5="",0,A5+ROW(A5)/1000) -> 22.872337 | E5: =INDEX($A$3:$A$26,MATCH(F5,$D$3:$D$26,0)) -> 50 | F5: =LARGE($D$3:$D$26,ROWS($F$3:F5)) -> 50.012 | G5: =MATCH(F5,$D$1:$D$26,0) -> 12 | H5: =INDEX($B$1:$B$26,G5) -> Kokosöl | I5: =INDEX($C$1:$C$26,G5) -> Cocos Nucifera (Coconut) Oil
A6: =IF(Rezeptdruck!E11="","",Rezeptdruck!E11) -> 15.275381 | B6: =IF(A6="","",Rezeptdruck!B11) -> KOH | C6: =IF(B6="","",Rezeptdruck!C11) -> Potassium Hydroxide | D6: =IF(A6="",0,A6+ROW(A6)/1000) -> 15.281381 | E6: =INDEX($A$3:$A$26,MATCH(F6,$D$3:$D$26,0)) -> 50 | F6: =LARGE($D$3:$D$26,ROWS($F$3:F6)) -> 50.011 | G6: =MATCH(F6,$D$1:$D$26,0) -> 11 | H6: =INDEX($B$1:$B$26,G6) -> Babassu | I6: =INDEX($C$1:$C$26,G6) -> Orbignya Oleifera (Babassu) Seed Oil
A7: =IF(Rezeptdruck!E12="","",Rezeptdruck!E12) -> 7.5 | B7: =IF(A7="","",Rezeptdruck!B12) -> Duft | C7: =IF(B7="","",Rezeptdruck!C12) -> 0 | D7: =IF(A7="",0,A7+ROW(A7)/1000) -> 7.507 | E7: =INDEX($A$3:$A$26,MATCH(F7,$D$3:$D$26,0)) -> 25 | F7: =LARGE($D$3:$D$26,ROWS($F$3:F7)) -> 25.014 | G7: =MATCH(F7,$D$1:$D$26,0) -> 14 | H7: =INDEX($B$1:$B$26,G7) -> Olivenöl | I7: =INDEX($C$1:$C$26,G7) -> Olea Europaea (Olive) Fruit Oil
A8: =IF(Rezeptdruck!E13="","",Rezeptdruck!E13) | B8: =IF(A8="","",Rezeptdruck!B13) | C8: =IF(B8="","",Rezeptdruck!C13) | D8: =IF(A8="",0,A8+ROW(A8)/1000) -> 0 | E8: =INDEX($A$3:$A$26,MATCH(F8,$D$3:$D$26,0)) -> 22.867337 | F8: =LARGE($D$3:$D$26,ROWS($F$3:F8)) -> 22.872337 | G8: =MATCH(F8,$D$1:$D$26,0) -> 5 | H8: =INDEX($B$1:$B$26,G8) -> NaOH | I8: =INDEX($C$1:$C$26,G8) -> Sodium Hydroxide
A9: =IF(Rezeptdruck!E14="","",Rezeptdruck!E14) | B9: =IF(A9="","",Rezeptdruck!B14) | C9: =IF(B9="","",Rezeptdruck!C14) | D9: =IF(A9="",0,A9+ROW(A9)/1000) -> 0 | E9: =INDEX($A$3:$A$26,MATCH(F9,$D$3:$D$26,0)) -> 15.275381 | F9: =LARGE($D$3:$D$26,ROWS($F$3:F9)) -> 15.281381 | G9: =MATCH(F9,$D$1:$D$26,0) -> 6 | H9: =INDEX($B$1:$B$26,G9) -> KOH | I9: =INDEX($C$1:$C$26,G9) -> Potassium Hydroxide
A10: =IF(Rezeptdruck!E16="",0,Rezeptdruck!E16) -> 12.5 | B10: =IF(A10=0,"",Rezeptdruck!B16) -> Weizenkeimöl | C10: =IF(A10=0,"",Rezeptdruck!C16) -> 0 | D10: =IF(A10="",0,A10+ROW(A10)/1000) -> 12.51 | E10: =INDEX($A$3:$A$26,MATCH(F10,$D$3:$D$26,0)) -> 12.5 | F10: =LARGE($D$3:$D$26,ROWS($F$3:F10)) -> 12.515 | G10: =MATCH(F10,$D$1:$D$26,0) -> 15 | H10: =INDEX($B$1:$B$26,G10) -> Myristinsäure | I10: =INDEX($C$1:$C$26,G10) -> Myristic Acids
A11: =IF(Rezeptdruck!E17="",0,Rezeptdruck!E17) -> 50 | B11: =IF(A11=0,"",Rezeptdruck!B17) -> Babassu | C11: =IF(A11=0,"",Rezeptdruck!C17) -> Orbignya Oleifera (Babassu) Seed Oil | D11: =IF(A11="",0,A11+ROW(A11)/1000) -> 50.011 | E11: =INDEX($A$3:$A$26,MATCH(F11,$D$3:$D$26,0)) -> 12.5 | F11: =LARGE($D$3:$D$26,ROWS($F$3:F11)) -> 12.51 | G11: =MATCH(F11,$D$1:$D$26,0) -> 10 | H11: =INDEX($B$1:$B$26,G11) -> Weizenkeimöl | I11: =INDEX($C$1:$C$26,G11) -> 0
A12: =IF(Rezeptdruck!E18="",0,Rezeptdruck!E18) -> 50 | B12: =IF(A12=0,"",Rezeptdruck!B18) -> Kokosöl | C12: =IF(A12=0,"",Rezeptdruck!C18) -> Cocos Nucifera (Coconut) Oil | D12: =IF(A12="",0,A12+ROW(A12)/1000) -> 50.012 | E12: =INDEX($A$3:$A$26,MATCH(F12,$D$3:$D$26,0)) -> 7.5 | F12: =LARGE($D$3:$D$26,ROWS($F$3:F12)) -> 7.507 | G12: =MATCH(F12,$D$1:$D$26,0) -> 7 | H12: =INDEX($B$1:$B$26,G12) -> Duft | I12: =INDEX($C$1:$C$26,G12) -> 0
A13: =IF(Rezeptdruck!E19="",0,Rezeptdruck!E19) -> 100 | B13: =IF(A13=0,"",Rezeptdruck!B19) -> Avocadoöl | C13: =IF(A13=0,"",Rezeptdruck!C19) -> Persea Gratissima (Avocado) Oil | D13: =IF(A13="",0,A13+ROW(A13)/1000) -> 100.013 | E13: =INDEX($A$3:$A$26,MATCH(F13,$D$3:$D$26,0)) -> 0 | F13: =LARGE($D$3:$D$26,ROWS($F$3:F13)) -> 0.026 | G13: =MATCH(F13,$D$1:$D$26,0) -> 26 | H13: =INDEX($B$1:$B$26,G13) | I13: =INDEX($C$1:$C$26,G13)
A14: =IF(Rezeptdruck!E20="",0,Rezeptdruck!E20) -> 25 | B14: =IF(A14=0,"",Rezeptdruck!B20) -> Olivenöl | C14: =IF(A14=0,"",Rezeptdruck!C20) -> Olea Europaea (Olive) Fruit Oil | D14: =IF(A14="",0,A14+ROW(A14)/1000) -> 25.014 | E14: =INDEX($A$3:$A$26,MATCH(F14,$D$3:$D$26,0)) -> 0 | F14: =LARGE($D$3:$D$26,ROWS($F$3:F14)) -> 0.025 | G14: =MATCH(F14,$D$1:$D$26,0) -> 25 | H14: =INDEX($B$1:$B$26,G14) | I14: =INDEX($C$1:$C$26,G14)
A15: =IF(Rezeptdruck!E21="",0,Rezeptdruck!E21) -> 12.5 | B15: =IF(A15=0,"",Rezeptdruck!B21) -> Myristinsäure | C15: =IF(A15=0,"",Rezeptdruck!C21) -> Myristic Acids | D15: =IF(A15="",0,A15+ROW(A15)/1000) -> 12.515 | E15: =INDEX($A$3:$A$26,MATCH(F15,$D$3:$D$26,0)) -> 0 | F15: =LARGE($D$3:$D$26,ROWS($F$3:F15)) -> 0.024 | G15: =MATCH(F15,$D$1:$D$26,0) -> 24 | H15: =INDEX($B$1:$B$26,G15) | I15: =INDEX($C$1:$C$26,G15)
A16: =IF(Rezeptdruck!E22="",0,Rezeptdruck!E22) -> 0 | B16: =IF(A16=0,"",Rezeptdruck!B22) | C16: =IF(A16=0,"",Rezeptdruck!C22) | D16: =IF(A16="",0,A16+ROW(A16)/1000) -> 0.016 | E16: =INDEX($A$3:$A$26,MATCH(F16,$D$3:$D$26,0)) -> 0 | F16: =LARGE($D$3:$D$26,ROWS($F$3:F16)) -> 0.023 | G16: =MATCH(F16,$D$1:$D$26,0) -> 23 | H16: =INDEX($B$1:$B$26,G16) | I16: =INDEX($C$1:$C$26,G16)
A17: =IF(Rezeptdruck!E23="",0,Rezeptdruck!E23) -> 0 | B17: =IF(A17=0,"",Rezeptdruck!B23) | C17: =IF(A17=0,"",Rezeptdruck!C23) | D17: =IF(A17="",0,A17+ROW(A17)/1000) -> 0.017 | E17: =INDEX($A$3:$A$26,MATCH(F17,$D$3:$D$26,0)) -> 0 | F17: =LARGE($D$3:$D$26,ROWS($F$3:F17)) -> 0.022 | G17: =MATCH(F17,$D$1:$D$26,0) -> 22 | H17: =INDEX($B$1:$B$26,G17) | I17: =INDEX($C$1:$C$26,G17)
A18: =IF(Rezeptdruck!E24="",0,Rezeptdruck!E24) -> 0 | B18: =IF(A18=0,"",Rezeptdruck!B24) | C18: =IF(A18=0,"",Rezeptdruck!C24) | D18: =IF(A18="",0,A18+ROW(A18)/1000) -> 0.018 | E18: =INDEX($A$3:$A$26,MATCH(F18,$D$3:$D$26,0)) -> 0 | F18: =LARGE($D$3:$D$26,ROWS($F$3:F18)) -> 0.021 | G18: =MATCH(F18,$D$1:$D$26,0) -> 21 | H18: =INDEX($B$1:$B$26,G18) | I18: =INDEX($C$1:$C$26,G18)
A19: =IF(Rezeptdruck!E25="",0,Rezeptdruck!E25) -> 0 | B19: =IF(A19=0,"",Rezeptdruck!B25) | C19: =IF(A19=0,"",Rezeptdruck!C25) | D19: =IF(A19="",0,A19+ROW(A19)/1000) -> 0.019 | E19: =INDEX($A$3:$A$26,MATCH(F19,$D$3:$D$26,0)) -> 0 | F19: =LARGE($D$3:$D$26,ROWS($F$3:F19)) -> 0.02 | G19: =MATCH(F19,$D$1:$D$26,0) -> 20 | H19: =INDEX($B$1:$B$26,G19) | I19: =INDEX($C$1:$C$26,G19)
A20: =IF(Rezeptdruck!E27="",0,Rezeptdruck!E27) -> 0 | B20: =IF(A20=0,"",Rezeptdruck!B27) | C20: =IF(A20=0,"",Rezeptdruck!C27) | D20: =IF(A20="",0,A20+ROW(A20)/1000) -> 0.02 | E20: =INDEX($A$3:$A$26,MATCH(F20,$D$3:$D$26,0)) -> 0 | F20: =LARGE($D$3:$D$26,ROWS($F$3:F20)) -> 0.019 | G20: =MATCH(F20,$D$1:$D$26,0) -> 19 | H20: =INDEX($B$1:$B$26,G20) | I20: =INDEX($C$1:$C$26,G20)
A21: =IF(Rezeptdruck!E28="",0,Rezeptdruck!E28) -> 0 | B21: =IF(A21=0,"",Rezeptdruck!B28) | C21: =IF(A21=0,"",Rezeptdruck!C28) | D21: =IF(A21="",0,A21+ROW(A21)/1000) -> 0.021 | E21: =INDEX($A$3:$A$26,MATCH(F21,$D$3:$D$26,0)) -> 0 | F21: =LARGE($D$3:$D$26,ROWS($F$3:F21)) -> 0.018 | G21: =MATCH(F21,$D$1:$D$26,0) -> 18 | H21: =INDEX($B$1:$B$26,G21) | I21: =INDEX($C$1:$C$26,G21)
A22: =IF(Rezeptdruck!E29="",0,Rezeptdruck!E29) -> 0 | B22: =IF(A22=0,"",Rezeptdruck!B29) | C22: =IF(A22=0,"",Rezeptdruck!C29) | D22: =IF(A22="",0,A22+ROW(A22)/1000) -> 0.022 | E22: =INDEX($A$3:$A$26,MATCH(F22,$D$3:$D$26,0)) -> 0 | F22: =LARGE($D$3:$D$26,ROWS($F$3:F22)) -> 0.017 | G22: =MATCH(F22,$D$1:$D$26,0) -> 17 | H22: =INDEX($B$1:$B$26,G22) | I22: =INDEX($C$1:$C$26,G22)
A23: =IF(Rezeptdruck!E30="",0,Rezeptdruck!E30) -> 0 | B23: =IF(A23=0,"",Rezeptdruck!B30) | C23: =IF(A23=0,"",Rezeptdruck!C30) | D23: =IF(A23="",0,A23+ROW(A23)/1000) -> 0.023 | E23: =INDEX($A$3:$A$26,MATCH(F23,$D$3:$D$26,0)) -> 0 | F23: =LARGE($D$3:$D$26,ROWS($F$3:F23)) -> 0.016 | G23: =MATCH(F23,$D$1:$D$26,0) -> 16 | H23: =INDEX($B$1:$B$26,G23) | I23: =INDEX($C$1:$C$26,G23)
A24: =IF(Rezeptdruck!E31="",0,Rezeptdruck!E31) -> 0 | B24: =IF(A24=0,"",Rezeptdruck!B31) | C24: =IF(A24=0,"",Rezeptdruck!C31) | D24: =IF(A24="",0,A24+ROW(A24)/1000) -> 0.024 | E24: =INDEX($A$3:$A$26,MATCH(F24,$D$3:$D$26,0)) | F24: =LARGE($D$3:$D$26,ROWS($F$3:F24)) -> 0 | G24: =MATCH(F24,$D$1:$D$26,0) -> 4 | H24: =INDEX($B$1:$B$26,G24) | I24: =INDEX($C$1:$C$26,G24)
A25: =IF(Rezeptdruck!E32="",0,Rezeptdruck!E32) -> 0 | B25: =IF(A25=0,"",Rezeptdruck!B32) | C25: =IF(A25=0,"",Rezeptdruck!C32) | D25: =IF(A25="",0,A25+ROW(A25)/1000) -> 0.025 | E25: =INDEX($A$3:$A$26,MATCH(F25,$D$3:$D$26,0)) | F25: =LARGE($D$3:$D$26,ROWS($F$3:F25)) -> 0 | G25: =MATCH(F25,$D$1:$D$26,0) -> 4 | H25: =INDEX($B$1:$B$26,G25) | I25: =INDEX($C$1:$C$26,G25)
A26: =IF(Rezeptdruck!E33="",0,Rezeptdruck!E33) -> 0 | B26: =IF(A26=0,"",Rezeptdruck!B33) | C26: =IF(A26=0,"",Rezeptdruck!C33) | D26: =IF(A26="",0,A26+ROW(A26)/1000) -> 0.026 | E26: =INDEX($A$3:$A$26,MATCH(F26,$D$3:$D$26,0)) | F26: =LARGE($D$3:$D$26,ROWS($F$3:F26)) -> 0 | G26: =MATCH(F26,$D$1:$D$26,0) -> 4 | H26: =INDEX($B$1:$B$26,G26) | I26: =INDEX($C$1:$C$26,G26)

Sheet Tabelle6
A1: Fette | B1: Lauriinsäure | C1: Myristinsäure | D1: Palmitinsäure | E1: Stearinsäure | F1: Ricinolsäure | G1: Ölsäure | H1: Linolsäure | I1: Linolensäure
A2: Aprikosenkernöl | B2: 0 | C2: 1 | D2: 44 | E2: 5 | F2: 0 | G2: 39 | H2: 10 | I2: 0
A3: Arganöl | B3: 0 | C3: 1 | D3: 14 | E3: 0 | F3: 0 | G3: 46 | H3: 34 | I3: 1
A4: Avocadoöl | B4: 0 | C4: 0 | D4: 20 | E4: 2 | F4: 0 | G4: 58 | H4: 12 | I4: 0
A5: Babassu | B5: 50 | C5: 20 | D5: 11 | E5: 4 | F5: 0 | G5: 10 | H5: 0 | I5: 0
A6: Bienenwachs | B6: 0 | C6: 0 | D6: 0 | E6: 0 | F6: 0 | G6: 0 | H6: 0 | I6: 0
A7: Distelöl, HO | B7: 0 | C7: 0 | D7: 5 | E7: 2 | F7: 0 | G7: 77 | H7: 15 | I7: 0
A8: Erdnussöl | B8: 0 | C8: 0 | D8: 8 | E8: 3 | F8: 0 | G8: 56 | H8: 26 | I8: 0
A9: Jojobaöl | B9: 0 | C9: 0 | D9: 0 | E9: 0 | F9: 0 | G9: 12 | H9: 0 | I9: 0
A10: Kakaobutter | B10: 0 | C10: 0 | D10: 28 | E10: 33 | F10: 0 | G10: 35 | H10: 3 | I10: 0
A11: Kokosöl | B11: 49 | C11: 19 | D11: 9 | E11: 3 | F11: 0 | G11: 8 | H11: 2 | I11: 0
A12: Kürbiskernöl | B12: 0 | C12: 0 | D12: 11 | E12: 8 | F12: 0 | G12: 33 | H12: 50 | I12: 0
A13: Lanolin | B13: 0 | C13: 0 | D13: 0 | E13: 0 | F13: 0 | G13: 0 | H13: 0 | I13: 0
... A37: Walnussöl | B37: 0 | C37: 0 | D37: 7 | E37: 2 | F37: 0 | G37: 18 | H37: 60 | I37: 0
